BEGIN:VCALENDAR
VERSION:2.0
PRODID:-//ChamberMaster//Event Calendar 2.0//EN
METHOD:PUBLISH
X-PUBLISHED-TTL:P3D
REFRESH-INTERVAL:P3D
CALSCALE:GREGORIAN
BEGIN:VEVENT
DTSTART:20130629T210000Z
DTEND:20130630T000000Z
X-MICROSOFT-CDO-ALLDAYEVENT:FALSE
SUMMARY:Event at Stefano's Wine & Liquor
DESCRIPTION:MEZCAL & VODKA TASTING\n\n \n\n \n\nZIGNUM MEZCAL\, REPOSADO & SILVER\, MEXICO\n\n \n\nTITOS HANDMADE VODKA\, USA
X-ALT-DESC;FMTTYPE=text/html:<u><span style="font-size: medium"><span style="font-family: calibri">MEZCAL &amp\; VODKA TASTING</span></span></u><br />\n&nbsp\;<br />\n&nbsp\;<br />\n<span style="font-size: medium"><span style="font-family: calibri">ZIGNUM MEZCAL\, REPOSADO &amp\; SILVER\, MEXICO</span></span><br />\n&nbsp\;<br />\n<span style="font-size: medium"><span style="font-family: calibri">TITOS HANDMADE VODKA\, USA</span></span><br />\n
LOCATION:STEFANO?S WINE & LIQUOR AT THE GALLERIA MALL
UID:e.330.3933
SEQUENCE:3
DTSTAMP:20260420T043129Z
URL:https://business.keybiscaynechamber.org/events/details/event-at-stefano-s-wine-liquor-06-29-2013-3933
END:VEVENT

END:VCALENDAR
