BEGIN:VCALENDAR
VERSION:2.0
PRODID:-//ChamberMaster//Event Calendar 2.0//EN
METHOD:PUBLISH
X-PUBLISHED-TTL:P3D
REFRESH-INTERVAL:P3D
CALSCALE:GREGORIAN
BEGIN:VEVENT
DTSTART:20130628T210000Z
DTEND:20130629T000000Z
X-MICROSOFT-CDO-ALLDAYEVENT:FALSE
SUMMARY:Event at Stefano's Wine & Liquor
DESCRIPTION:SPANISH WINE TASTING & VODKA\n\n \n\n \n\n \n\nR+ \, RIBERA DEL DUERO\n\nTAMIZ\, RIBERA DEL DUERO\n\n \n\nCHOPIN VODKA\, POLAND
X-ALT-DESC;FMTTYPE=text/html:<u><span style="font-size: medium"><span style="font-family: calibri">SPANISH WINE TASTING &amp\; VODKA</span></span></u><br />\n&nbsp\;<br />\n&nbsp\;<br />\n&nbsp\;<br />\n<span style="font-size: medium"><span style="font-family: calibri">R+ \, RIBERA DEL DUERO</span></span><br />\n<span style="font-size: medium"><span style="font-family: calibri">TAMIZ\, RIBERA DEL DUERO</span></span><br />\n&nbsp\;<br />\n<span style="font-size: medium"><span style="font-family: calibri">CHOPIN VODKA\, POLAND</span></span><br />\n
LOCATION:STEFANO?S WINE & LIQUOR AT THE GALLERIA MALL
UID:e.330.3932
SEQUENCE:3
DTSTAMP:20260420T061708Z
URL:https://business.keybiscaynechamber.org/events/details/event-at-stefano-s-wine-liquor-06-28-2013-3932
END:VEVENT

END:VCALENDAR
