BEGIN:VCALENDAR
VERSION:2.0
PRODID:-//ChamberMaster//Event Calendar 2.0//EN
METHOD:PUBLISH
X-PUBLISHED-TTL:P3D
REFRESH-INTERVAL:P3D
CALSCALE:GREGORIAN
BEGIN:VEVENT
DTSTART:20130622T210000Z
DTEND:20130623T000000Z
X-MICROSOFT-CDO-ALLDAYEVENT:FALSE
SUMMARY:Event at Stefano's Wine & Liquor
DESCRIPTION:ITALIAN WINES  & RUM TASTING\n\n \n\nVILLA ANTINORI\, CHIANTI\n\n \n\nCOL DE SALICI\, PROSECCO
X-ALT-DESC;FMTTYPE=text/html:<u><span style="font-size: medium"><span style="font-family: calibri">ITALIAN WINES &nbsp\;&amp\; RUM TASTING</span></span></u><br />\n&nbsp\;<br />\n<span style="font-size: medium"><span style="font-family: calibri">VILLA ANTINORI\, CHIANTI</span></span><br />\n&nbsp\;<br />\n<span style="font-size: medium"><span style="font-family: calibri">COL DE SALICI\, PROSECCO</span></span><br />\n&nbsp\;<br />\n
LOCATION:STEFANOS WINE & LIQUOR AT THE GALLERIA MALL
UID:e.330.3931
SEQUENCE:3
DTSTAMP:20260420T043144Z
URL:https://business.keybiscaynechamber.org/events/details/event-at-stefano-s-wine-liquor-06-22-2013-3931
END:VEVENT

END:VCALENDAR
