BEGIN:VCALENDAR
VERSION:2.0
PRODID:-//ChamberMaster//Event Calendar 2.0//EN
METHOD:PUBLISH
X-PUBLISHED-TTL:P3D
REFRESH-INTERVAL:P3D
CALSCALE:GREGORIAN
BEGIN:VEVENT
DTSTART:20130621T210000Z
DTEND:20130622T000000Z
X-MICROSOFT-CDO-ALLDAYEVENT:FALSE
SUMMARY:Event at Stefano's Wine & Liquor
DESCRIPTION:SPANISH WINE TASTING & FRENCH COGNAC\n\n \n\nA PORTELA MENCIA\, VALDEOORAS\n\nLA CARTUJA\, PRIORAT\n\n \n\nHINE COGNAC VSOP RARE\, FRANCE
X-ALT-DESC;FMTTYPE=text/html:<u><span style="font-size: medium"><span style="font-family: calibri">SPANISH WINE TASTING &amp\; FRENCH COGNAC</span></span></u><br />\n&nbsp\;<br />\n<span style="font-size: medium"><span style="font-family: calibri">A PORTELA MENCIA\, VALDEOORAS</span></span><br />\n<span style="font-size: medium"><span style="font-family: calibri">LA CARTUJA\, PRIORAT</span></span><br />\n&nbsp\;<br />\n<span style="font-size: medium"><span style="font-family: calibri">HINE COGNAC VSOP RARE\, FRANCE</span></span><br />\n
LOCATION:STEFANO?S WINE & LIQUOR AT THE GALLERIA MALL
UID:e.330.3930
SEQUENCE:3
DTSTAMP:20260420T043128Z
URL:https://business.keybiscaynechamber.org/events/details/event-at-stefano-s-wine-liquor-06-21-2013-3930
END:VEVENT

END:VCALENDAR
