BEGIN:VCALENDAR
VERSION:2.0
PRODID:-//ChamberMaster//Event Calendar 2.0//EN
METHOD:PUBLISH
X-PUBLISHED-TTL:P3D
REFRESH-INTERVAL:P3D
CALSCALE:GREGORIAN
BEGIN:VEVENT
DTSTART:20130608T210000Z
DTEND:20130609T000000Z
X-MICROSOFT-CDO-ALLDAYEVENT:FALSE
SUMMARY:Event at Stefano's Wine & Liquor
DESCRIPTION:ARGENTINE WINES & VODKA TASTING\n\n\n\nZUCARDI FAMILY WINES\, MALBEC & TORRONTES\n\n\n\nVODKA\n\n\n\nSVEDKA SWEDISH VODKA-  FLAVORS
X-ALT-DESC;FMTTYPE=text/html:<u><strong>ARGENTINE WINES &amp\; VODKA TASTING</strong></u><br />\n<br />\n<strong>ZUCARDI FAMILY WINES\, MALBEC &amp\; TORRONTES<br />\n<br />\n<u>VODKA</u><br />\n<br />\nSVEDKA SWEDISH VODKA-&nbsp\; FLAVORS</strong>
LOCATION:STEFANO?S WINE & LIQUOR AT THE GALLERIA MALL
UID:e.330.3926
SEQUENCE:3
DTSTAMP:20260420T043132Z
URL:https://business.keybiscaynechamber.org/events/details/event-at-stefano-s-wine-liquor-06-08-2013-3926
END:VEVENT

END:VCALENDAR
