BEGIN:VCALENDAR
VERSION:2.0
PRODID:-//ChamberMaster//Event Calendar 2.0//EN
METHOD:PUBLISH
X-PUBLISHED-TTL:P3D
REFRESH-INTERVAL:P3D
CALSCALE:GREGORIAN
BEGIN:VEVENT
DTSTART:20130607T210000Z
DTEND:20130608T000000Z
X-MICROSOFT-CDO-ALLDAYEVENT:FALSE
SUMMARY:Event at Stefano's Wine & Liquor
DESCRIPTION:SPANISH WINES & TEQUILA TASTING\n\n\n\nTRAMUZ\, RIBERA DEL DUERO\n\nTRILLON\, RUEDA\n\n\n\nTEQUILA\n\nFAMILIA CAMARENA TEQUILA\, REPOSADO
X-ALT-DESC;FMTTYPE=text/html:<span style="font-size: 14px"><strong><u>SPANISH WINES &amp\; TEQUILA TASTING</u><br />\n<br />\nTRAMUZ\, RIBERA DEL DUERO<br />\nTRILLON\, RUEDA<br />\n<br />\n<u>TEQUILA</u><br />\nFAMILIA CAMARENA TEQUILA\, REPOSADO</strong></span>
LOCATION:STEFANO?S WINE & LIQUOR AT THE GALLERIA MALL
UID:e.330.3925
SEQUENCE:3
DTSTAMP:20260420T061826Z
URL:https://business.keybiscaynechamber.org/events/details/event-at-stefano-s-wine-liquor-06-07-2013-3925
END:VEVENT

END:VCALENDAR
