BEGIN:VCALENDAR
VERSION:2.0
PRODID:-//ChamberMaster//Event Calendar 2.0//EN
METHOD:PUBLISH
X-PUBLISHED-TTL:P3D
REFRESH-INTERVAL:P3D
CALSCALE:GREGORIAN
BEGIN:VEVENT
DTSTART:20130531T210000Z
DTEND:20130602T000000Z
X-MICROSOFT-CDO-ALLDAYEVENT:FALSE
SUMMARY:Event at Stefano's Wine & Liquor
DESCRIPTION:ARGENTINE WINE TASTING & RUM FROM VENEZUELA\n\n\n\nVILLAATUEL MALBEC\,\n\nVILLAATUEL CHARDONNAY\n\n\n\nRUM:\n\n\n\nSANTA TERESA 1796 RUM
X-ALT-DESC;FMTTYPE=text/html:<strong><span style="font-size: 16px">ARGENTINE WINE TASTING &amp\; RUM FROM VENEZUELA<br />\n<br />\nVILLAATUEL MALBEC\,<br />\nVILLAATUEL CHARDONNAY<br />\n<br />\n<u>RUM:</u><br />\n<br />\nSANTA TERESA 1796 RUM</span></strong>
LOCATION:STEFANO?S WINE & LIQUOR AT THE GALLERIA MALL
UID:e.330.3923
SEQUENCE:3
DTSTAMP:20260420T043312Z
URL:https://business.keybiscaynechamber.org/events/details/event-at-stefano-s-wine-liquor-05-31-2013-3923
END:VEVENT

END:VCALENDAR
