BEGIN:VCALENDAR
VERSION:2.0
PRODID:-//ChamberMaster//Event Calendar 2.0//EN
METHOD:PUBLISH
X-PUBLISHED-TTL:P3D
REFRESH-INTERVAL:P3D
CALSCALE:GREGORIAN
BEGIN:VEVENT
DTSTART:20130525T210000Z
DTEND:20130526T000000Z
X-MICROSOFT-CDO-ALLDAYEVENT:FALSE
SUMMARY:Event at Stefano's Wine & Liquor
DESCRIPTION:Saturday: May 24th\n\n	 \n\n	Italian Brunello Tasting\n\n	 \n\n	Lisina Brunello\n\n	Lisina Rosso di Montalcino
X-ALT-DESC;FMTTYPE=text/html:<p class="MsoNormal" style="margin: 0in 0in 0pt">\n	<span style="font-size: 18px"><u><font color="#000000"><font face="Calibri">Saturday: May 24<sup>th</sup></font></font></u></span><u><font color="#000000"><font face="Calibri"><font size="2"><o:p></o:p></font></font></font></u></p>\n<p class="MsoNormal" style="margin: 0in 0in 0pt">\n	<o:p><span style="font-size: 18px"><font color="#000000" face="Calibri">&nbsp\;</font></span></o:p></p>\n<p class="MsoNormal" style="margin: 0in 0in 0pt">\n	<span style="font-size: 18px"><font color="#000000" face="Calibri">Italian Brunello Tasting</font></span></p>\n<p class="MsoNormal" style="margin: 0in 0in 0pt">\n	<o:p><span style="font-size: 18px"><font color="#000000" face="Calibri">&nbsp\;</font></span></o:p></p>\n<p class="MsoNormal" style="margin: 0in 0in 0pt">\n	<span style="font-size: 18px"><font color="#000000" face="Calibri">Lisina Brunello</font></span></p>\n<p class="MsoNormal" style="margin: 0in 0in 0pt">\n	<span style="font-size: 18px"><font color="#000000" face="Calibri">Lisina Rosso di Montalcino</font></span></p>\n
LOCATION:STEFANO?S WINE & LIQUOR AT THE GALLERIA MALL
UID:e.330.3919
SEQUENCE:3
DTSTAMP:20260420T061815Z
URL:https://business.keybiscaynechamber.org/events/details/event-at-stefano-s-wine-liquor-05-25-2013-3919
END:VEVENT

END:VCALENDAR
