BEGIN:VCALENDAR
VERSION:2.0
PRODID:-//ChamberMaster//Event Calendar 2.0//EN
METHOD:PUBLISH
X-PUBLISHED-TTL:P3D
REFRESH-INTERVAL:P3D
CALSCALE:GREGORIAN
BEGIN:VEVENT
DTSTART:20140524T210000Z
DTEND:20140525T000000Z
X-MICROSOFT-CDO-ALLDAYEVENT:FALSE
SUMMARY:Event at Stefano's Wine & Liquor
DESCRIPTION:SPANISH WINES & RUM TASTING\n\n\n\nALTA PAVIA\, PINOT NOIR\, SPAIN\n\nZAFRA RUM\, GUATEMALA
X-ALT-DESC;FMTTYPE=text/html:<br />\n<span style="font-size: 14px\;"><u><strong>SPANISH WINES &amp\; RUM TASTING</strong></u></span><br />\n<br />\nALTA PAVIA\, PINOT NOIR\, SPAIN<br />\nZAFRA RUM\, GUATEMALA
LOCATION:STEFANO?S WINE & LIQUOR AT THE GALLERIA MALL
UID:e.330.4113
SEQUENCE:3
DTSTAMP:20260419T133742Z
URL:https://business.keybiscaynechamber.org/events/details/event-at-stefano-s-wine-liquor-05-24-2014-4113
END:VEVENT

END:VCALENDAR
