BEGIN:VCALENDAR
VERSION:2.0
PRODID:-//ChamberMaster//Event Calendar 2.0//EN
METHOD:PUBLISH
X-PUBLISHED-TTL:P3D
REFRESH-INTERVAL:P3D
CALSCALE:GREGORIAN
BEGIN:VEVENT
DTSTART:20130524T210000Z
DTEND:20130525T000000Z
X-MICROSOFT-CDO-ALLDAYEVENT:FALSE
SUMMARY:Event at Stefano's Wine & Liquor
DESCRIPTION:Friday:  May 24th\n\n \n\nArgentine Wines & California Cabernet\n\n \n\nAltos de las Hormigas\, Argentina\n\nBridlewood Cabernet Savignon\, Paso Robles
X-ALT-DESC;FMTTYPE=text/html:<span style="font-size: 18px"><span style="font-family: calibri">Friday:&nbsp\; May 24<sup>th</sup></span><br />\n&nbsp\;<br />\n<u><span style="font-family: calibri">Argentine Wines &amp\; California Cabernet</span></u><br />\n&nbsp\;<br />\n<span style="font-family: calibri">Altos de las Hormigas\, Argentina</span><br />\n<span style="font-family: calibri">Bridlewood Cabernet Savignon\, Paso Robles</span></span><br />\n
LOCATION:STEFANO?S WINE & LIQUOR AT THE GALLERIA MALL
UID:e.330.3918
SEQUENCE:3
DTSTAMP:20260420T061816Z
URL:https://business.keybiscaynechamber.org/events/details/event-at-stefano-s-wine-liquor-05-24-2013-3918
END:VEVENT

END:VCALENDAR
