BEGIN:VCALENDAR
VERSION:2.0
PRODID:-//ChamberMaster//Event Calendar 2.0//EN
METHOD:PUBLISH
X-PUBLISHED-TTL:P3D
REFRESH-INTERVAL:P3D
CALSCALE:GREGORIAN
BEGIN:VEVENT
DTSTART:20140523T210000Z
DTEND:20140524T000000Z
X-MICROSOFT-CDO-ALLDAYEVENT:FALSE
SUMMARY:Event at Stefano's Wine & Liquor
DESCRIPTION:ITALIAN PROSEECO & BRAZILIAN CACACHA TASTING\n\n\n\n\n\nSYLTBAR PROSECCO\,  ITALY\n\nLEBLON CACACHA\, BRAZIL
X-ALT-DESC;FMTTYPE=text/html:<br />\n<br />\nITALIAN PROSEECO &amp\; BRAZILIAN CACACHA TASTING<br />\n<br />\n<br />\nSYLTBAR PROSECCO\,&nbsp\; ITALY<br />\nLEBLON CACACHA\, BRAZIL
LOCATION:STEFANO?S WINE & LIQUOR AT THE GALLERIA MALL
UID:e.330.4111
SEQUENCE:3
DTSTAMP:20260419T121352Z
URL:https://business.keybiscaynechamber.org/events/details/event-at-stefano-s-wine-liquor-05-23-2014-4111
END:VEVENT

END:VCALENDAR
