BEGIN:VCALENDAR
VERSION:2.0
PRODID:-//ChamberMaster//Event Calendar 2.0//EN
METHOD:PUBLISH
X-PUBLISHED-TTL:P3D
REFRESH-INTERVAL:P3D
CALSCALE:GREGORIAN
BEGIN:VEVENT
DTSTART:20120519T210000Z
DTEND:20120520T000000Z
X-MICROSOFT-CDO-ALLDAYEVENT:FALSE
SUMMARY:Event at Stefano's Wine & Liquor
DESCRIPTION:Saturday: May 19th\n\n\n\nFrench Wine Tasting:\n\n\n\nWhite Bordeaux's\, Rose's & Sancerre's
X-ALT-DESC;FMTTYPE=text/html:<br />\nSaturday: May 19th<br />\n<br />\nFrench Wine Tasting:<br />\n<br />\nWhite Bordeaux&#39\;s\, Rose&#39\;s &amp\; Sancerre&#39\;s<br />\n
LOCATION:Event at Stefano's Wine & Liquor
UID:e.330.3706
SEQUENCE:3
DTSTAMP:20260421T001718Z
URL:https://business.keybiscaynechamber.org/events/details/event-at-stefano-s-wine-liquor-05-19-2012-3706
END:VEVENT

END:VCALENDAR
