BEGIN:VCALENDAR
VERSION:2.0
PRODID:-//ChamberMaster//Event Calendar 2.0//EN
METHOD:PUBLISH
X-PUBLISHED-TTL:P3D
REFRESH-INTERVAL:P3D
CALSCALE:GREGORIAN
BEGIN:VEVENT
DTSTART:20130518T210000Z
DTEND:20130519T000000Z
X-MICROSOFT-CDO-ALLDAYEVENT:FALSE
SUMMARY:Event at Stefano's Wine & Liquor
DESCRIPTION:Chilean Wines\n\n \n\nVina Tarapaca\, Merlot\, Cabernet & Carmenere\n\n \n\nVodka Tasting:\n\n \n\nBelvedere Vodka
X-ALT-DESC;FMTTYPE=text/html:<span style="font-size: 18px"><u><span style="font-family: calibri">Chilean Wines</span></u><br />\n&nbsp\;<br />\n<span style="font-family: calibri">Vina Tarapaca\, Merlot\, Cabernet &amp\; Carmenere</span><br />\n&nbsp\;<br />\n<u><span style="font-family: calibri">Vodka Tasting:</span></u><br />\n&nbsp\;<br />\n<span style="font-family: calibri">Belvedere Vodka</span></span><br />\n
LOCATION:STEFANO?S WINE & LIQUOR AT THE GALLERIA MALL
UID:e.330.3913
SEQUENCE:3
DTSTAMP:20260420T061826Z
URL:https://business.keybiscaynechamber.org/events/details/event-at-stefano-s-wine-liquor-05-18-2013-3913
END:VEVENT

END:VCALENDAR
