BEGIN:VCALENDAR
VERSION:2.0
PRODID:-//ChamberMaster//Event Calendar 2.0//EN
METHOD:PUBLISH
X-PUBLISHED-TTL:P3D
REFRESH-INTERVAL:P3D
CALSCALE:GREGORIAN
BEGIN:VEVENT
DTSTART:20120518T210000Z
DTEND:20120519T000000Z
X-MICROSOFT-CDO-ALLDAYEVENT:FALSE
SUMMARY:Event at Stefano's Wine & Liquor
DESCRIPTION:Friday: May\, 18th\n\n	 \nSouth African Wine Tasting:\n\n\n\nExcelsior Cabernet Savignon\n\nMulderbosch Rose\n\nMulderbosch Savignon Blanc\n\nJam Jar Shiraz
X-ALT-DESC;FMTTYPE=text/html:<p>\n	<span style="font-family: times new roman"><big>Friday: May\, 18th</big></span><br />\n	&nbsp\;</p>\n<span style="font-family: times new roman"><big>South African Wine Tasting:<br />\n<br />\nExcelsior Cabernet Savignon<br />\nMulderbosch Rose<br />\nMulderbosch Savignon Blanc<br />\nJam Jar Shiraz</big></span><br />\n
LOCATION:Stefanos Wine & Liquor
UID:e.330.3705
SEQUENCE:3
DTSTAMP:20260421T001719Z
URL:https://business.keybiscaynechamber.org/events/details/event-at-stefano-s-wine-liquor-05-18-2012-3705
END:VEVENT

END:VCALENDAR
