BEGIN:VCALENDAR
VERSION:2.0
PRODID:-//ChamberMaster//Event Calendar 2.0//EN
METHOD:PUBLISH
X-PUBLISHED-TTL:P3D
REFRESH-INTERVAL:P3D
CALSCALE:GREGORIAN
BEGIN:VEVENT
DTSTART:20130517T210000Z
DTEND:20130518T000000Z
X-MICROSOFT-CDO-ALLDAYEVENT:FALSE
SUMMARY:Event at Stefano's Wine & Liquor
DESCRIPTION:California Wines\n\n Tin Roof Red Blend\, Napa\n\nTin Roof Chardonnay\n\n \n\nVodka Tasting:\n\n \n\nSvedka Swedish Vodka\n\nCoconut\, Orange & Colada Flavors
X-ALT-DESC;FMTTYPE=text/html:<span style="font-size: 18px"><u><span style="font-family: calibri">California Wines</span></u><br />\n&nbsp\;<span style="font-family: calibri">Tin Roof Red Blend\, Napa</span><br />\n<span style="font-family: calibri">Tin Roof Chardonnay</span><br />\n&nbsp\;<br />\n<u><span style="font-family: calibri">Vodka Tasting:</span></u><br />\n&nbsp\;<br />\n<span style="font-family: calibri">Svedka Swedish Vodka</span><br />\n<span style="font-family: calibri">Coconut\, Orange &amp\; Colada Flavors</span></span><br />\n
LOCATION:STEFANO?S WINE & LIQUOR AT THE GALLERIA MALL
UID:e.330.3912
SEQUENCE:3
DTSTAMP:20260420T061728Z
URL:https://business.keybiscaynechamber.org/events/details/event-at-stefano-s-wine-liquor-05-17-2013-3912
END:VEVENT

END:VCALENDAR
