BEGIN:VCALENDAR
VERSION:2.0
PRODID:-//ChamberMaster//Event Calendar 2.0//EN
METHOD:PUBLISH
X-PUBLISHED-TTL:P3D
REFRESH-INTERVAL:P3D
CALSCALE:GREGORIAN
BEGIN:VEVENT
DTSTART:20120512T210000Z
DTEND:20120513T000000Z
X-MICROSOFT-CDO-ALLDAYEVENT:FALSE
SUMMARY:Event at Stefano's Wine & Liquor
DESCRIPTION:Saturday\, May 12th\n\n	 \n\n\nBordeaux Wine Tasting: Sample the 2009 Bordeaux Vintage called by experts the very best since 1982
X-ALT-DESC;FMTTYPE=text/html:<p>\n	<span style="font-size: 16px"><span style="font-family: verdana"><big>Saturday\, May 12th</big></span></span><br />\n	&nbsp\;</p>\n<br />\n<span style="font-size: 16px"><span style="font-family: verdana"><big>Bordeaux Wine Tasting: Sample the 2009 Bordeaux Vintage called by experts the very best since 1982</big></span></span><br />\n
LOCATION:Event at Stefano's Wine & Liquor
UID:e.330.3702
SEQUENCE:3
DTSTAMP:20260421T001516Z
URL:https://business.keybiscaynechamber.org/events/details/event-at-stefano-s-wine-liquor-05-12-2012-3702
END:VEVENT

END:VCALENDAR
