BEGIN:VCALENDAR
VERSION:2.0
PRODID:-//ChamberMaster//Event Calendar 2.0//EN
METHOD:PUBLISH
X-PUBLISHED-TTL:P3D
REFRESH-INTERVAL:P3D
CALSCALE:GREGORIAN
BEGIN:VEVENT
DTSTART:20130511T210000Z
DTEND:20130512T000000Z
X-MICROSOFT-CDO-ALLDAYEVENT:FALSE
SUMMARY:Event at Stefano's Wine & Liquor
DESCRIPTION:Spanish Sangria Tasting\n\nOle' Sangria\n\n \n\nRum Tasting\n\nZafra Rum 21yrs/  Panama
X-ALT-DESC;FMTTYPE=text/html:&nbsp\;<br />\n<span style="font-size: 18px"><u><span style="font-family: calibri">Spanish Sangria Tasting</span></u><br />\n<span style="font-family: calibri">Ole&rsquo\; Sangria</span><br />\n&nbsp\;<br />\n<u><span style="font-family: calibri">Rum Tasting</span></u><br />\n<span style="font-family: calibri">Zafra Rum 21yrs/ &nbsp\;Panama</span></span><br />\n
LOCATION:STEFANO?S WINE & LIQUOR AT THE GALLERIA MALL
UID:e.330.3909
SEQUENCE:3
DTSTAMP:20260420T061730Z
URL:https://business.keybiscaynechamber.org/events/details/event-at-stefano-s-wine-liquor-05-11-2013-3909
END:VEVENT

END:VCALENDAR
