BEGIN:VCALENDAR
VERSION:2.0
PRODID:-//ChamberMaster//Event Calendar 2.0//EN
METHOD:PUBLISH
X-PUBLISHED-TTL:P3D
REFRESH-INTERVAL:P3D
CALSCALE:GREGORIAN
BEGIN:VEVENT
DTSTART:20120511T210000Z
DTEND:20120512T000000Z
X-MICROSOFT-CDO-ALLDAYEVENT:FALSE
SUMMARY:Event at Stefano's Wine & Liquor
DESCRIPTION:Friday\, May 11th\n\n\n\nArgentinian Wine Tasting: Wines from Achaval Ferrer\n\n\n\nRum Tasting: Ron Botran
X-ALT-DESC;FMTTYPE=text/html:<span style="font-size: 16px"><span style="font-family: verdana"><big>Friday\, May 11th<br />\n<br />\nArgentinian Wine Tasting: Wines from Achaval Ferrer<br />\n<br />\nRum Tasting: Ron Botran</big></span></span><br />\n
LOCATION:Stefanos Wine & Liquor located at the Galleria Mall
UID:e.330.3701
SEQUENCE:3
DTSTAMP:20260421T001608Z
URL:https://business.keybiscaynechamber.org/events/details/event-at-stefano-s-wine-liquor-05-11-2012-3701
END:VEVENT

END:VCALENDAR
