BEGIN:VCALENDAR
VERSION:2.0
PRODID:-//ChamberMaster//Event Calendar 2.0//EN
METHOD:PUBLISH
X-PUBLISHED-TTL:P3D
REFRESH-INTERVAL:P3D
CALSCALE:GREGORIAN
BEGIN:VEVENT
DTSTART:20140510T210000Z
DTEND:20140511T000000Z
X-MICROSOFT-CDO-ALLDAYEVENT:FALSE
SUMMARY:Event at Stefano's Wine & Liquor
DESCRIPTION:CHAMPAGNE TASTING\n\n\n\n\n\nVEUVE CLIQUOT\,  BRUT & ROSE'\n\n\n\nMOTET CHANDON\, BRUT & ROSE'
X-ALT-DESC;FMTTYPE=text/html:<br />\n<br />\n<strong><u><span style="font-size: 16px">CHAMPAGNE TASTING</span></u></strong><br />\n<br />\n<br />\nVEUVE CLIQUOT\,&nbsp\; BRUT &amp\; ROSE&#39\;<br />\n<br />\nMOTET CHANDON\, BRUT &amp\; ROSE&#39\;
LOCATION:STEFANO?S WINE & LIQUOR AT THE GALLERIA MALL
UID:e.330.4102
SEQUENCE:3
DTSTAMP:20260419T133840Z
URL:https://business.keybiscaynechamber.org/events/details/event-at-stefano-s-wine-liquor-05-10-2014-4102
END:VEVENT

END:VCALENDAR
