BEGIN:VCALENDAR
VERSION:2.0
PRODID:-//ChamberMaster//Event Calendar 2.0//EN
METHOD:PUBLISH
X-PUBLISHED-TTL:P3D
REFRESH-INTERVAL:P3D
CALSCALE:GREGORIAN
BEGIN:VEVENT
DTSTART:20130510T210000Z
DTEND:20130511T000000Z
X-MICROSOFT-CDO-ALLDAYEVENT:FALSE
SUMMARY:Event at Stefano's Wine & Liquor
DESCRIPTION:Girls Go Lightly Wines\n\nChardonnay\, Moscato & Rose'\n\n \n\nVodka Tasting\n\n\n\nThree Olives\n\nexpresso\, whipped Cream & marylin monroe Flavors
X-ALT-DESC;FMTTYPE=text/html:<span style="font-size: 16px"><span style="font-family: arial\, helvetica\, sans-serif">&nbsp\;<br />\n<u>Girls Go Lightly Wines</u><br />\nChardonnay\, Moscato &amp\; Rose&rsquo\;<br />\n&nbsp\;<br />\n<u>Vodka Tasting</u><br />\n<br />\nThree Olives<br />\nexpresso\, whipped Cream &amp\; marylin monroe Flavors</span></span><br />\n
LOCATION:STEFANO?S WINE & LIQUOR AT THE GALLERIA MALL
UID:e.330.3908
SEQUENCE:3
DTSTAMP:20260420T074907Z
URL:https://business.keybiscaynechamber.org/events/details/event-at-stefano-s-wine-liquor-05-10-2013-3908
END:VEVENT

END:VCALENDAR
