BEGIN:VCALENDAR
VERSION:2.0
PRODID:-//ChamberMaster//Event Calendar 2.0//EN
METHOD:PUBLISH
X-PUBLISHED-TTL:P3D
REFRESH-INTERVAL:P3D
CALSCALE:GREGORIAN
BEGIN:VEVENT
DTSTART:20140509T210000Z
DTEND:20140510T000000Z
X-MICROSOFT-CDO-ALLDAYEVENT:FALSE
SUMMARY:Event at Stefano's Wine & Liquor
DESCRIPTION:SPANISH & ARGENTINE WINE TASTING\n\n\n\n\n\nLOS HAROLDOS\, MALBEC\, ARGENTINA\n\n\n\nALIDIS\, RIBERA DEL DUERO\, SPAIN\n\n\n\nMURRAGAT\,  SPANISH CAVA
X-ALT-DESC;FMTTYPE=text/html:<br />\n<u><strong><span style="font-size: 16px">SPANISH &amp\; ARGENTINE WINE TASTING</span></strong></u><br />\n<br />\n<br />\n<span style="font-size: 16px">LOS HAROLDOS\, MALBEC\, ARGENTINA<br />\n<br />\nALIDIS\, RIBERA DEL DUERO\, SPAIN<br />\n<br />\nMURRAGAT\,&nbsp\; SPANISH CAVA</span>
LOCATION:STEFANO?S WINE & LIQUOR AT THE GALLERIA MALL
UID:e.330.4101
SEQUENCE:3
DTSTAMP:20260419T133840Z
URL:https://business.keybiscaynechamber.org/events/details/event-at-stefano-s-wine-liquor-05-09-2014-4101
END:VEVENT

END:VCALENDAR
