BEGIN:VCALENDAR
VERSION:2.0
PRODID:-//ChamberMaster//Event Calendar 2.0//EN
METHOD:PUBLISH
X-PUBLISHED-TTL:P3D
REFRESH-INTERVAL:P3D
CALSCALE:GREGORIAN
BEGIN:VEVENT
DTSTART:20120505T210000Z
DTEND:20120506T000000Z
X-MICROSOFT-CDO-ALLDAYEVENT:FALSE
SUMMARY:Event at Stefano's Wine & Liquor
DESCRIPTION:Saturday: May 5th\n\n\n\nFrench Burgundy Tasting: Remoissenet Pere & Fils 2009\n\n\n\nArgentina Wine Tasting: Las Nencias Malbec\, Mendoza\, Argentina
X-ALT-DESC;FMTTYPE=text/html:<br />\nSaturday: May 5th<br />\n<br />\nFrench Burgundy Tasting: Remoissenet Pere &amp\; Fils 2009<br />\n<br />\nArgentina Wine Tasting: Las Nencias Malbec\, Mendoza\, Argentina<br />\n
LOCATION:STEFANO'S WINE & LIQUOR
UID:e.330.3698
SEQUENCE:3
DTSTAMP:20260421T001609Z
URL:https://business.keybiscaynechamber.org/events/details/event-at-stefano-s-wine-liquor-05-05-2012-3698
END:VEVENT

END:VCALENDAR
