BEGIN:VCALENDAR
VERSION:2.0
PRODID:-//ChamberMaster//Event Calendar 2.0//EN
METHOD:PUBLISH
X-PUBLISHED-TTL:P3D
REFRESH-INTERVAL:P3D
CALSCALE:GREGORIAN
BEGIN:VEVENT
DTSTART:20130504T210000Z
DTEND:20130505T000000Z
X-MICROSOFT-CDO-ALLDAYEVENT:FALSE
SUMMARY:Event at Stefano's Wine & Liquor
DESCRIPTION:Saturday: May 4th\n\n \n\nCinco de Mayo Tequila Tasting\n\n \n\n1800 Tequila\n\nMaestro Dobel Tequila
X-ALT-DESC;FMTTYPE=text/html:<span style="font-size: 16px"><strong><u><span style="font-family: calibri">Saturday: May 4<sup>th</sup></span></u><br />\n&nbsp\;<br />\n<span style="font-family: calibri">Cinco de Mayo Tequila Tasting</span><br />\n&nbsp\;<br />\n<span style="font-family: calibri">1800 Tequila</span><br />\n<span style="font-family: calibri">Maestro Dobel Tequila</span></strong><br />\n&nbsp\;</span><br />\n
LOCATION:STEFANO?S WINE & LIQUOR AT THE GALLERIA MALL
UID:e.330.3902
SEQUENCE:3
DTSTAMP:20260420T061742Z
URL:https://business.keybiscaynechamber.org/events/details/event-at-stefano-s-wine-liquor-05-04-2013-3902
END:VEVENT

END:VCALENDAR
