BEGIN:VCALENDAR
VERSION:2.0
PRODID:-//ChamberMaster//Event Calendar 2.0//EN
METHOD:PUBLISH
X-PUBLISHED-TTL:P3D
REFRESH-INTERVAL:P3D
CALSCALE:GREGORIAN
BEGIN:VEVENT
DTSTART:20120504T210000Z
DTEND:20120505T000000Z
X-MICROSOFT-CDO-ALLDAYEVENT:FALSE
SUMMARY:Event at Stefano's Wine & Liquor
DESCRIPTION:Friday: May 4th\n\n\n\n\n\nFrench Wine Tasting: Bordeaxu & Rose\n\n\n\nRollan de By- Bordeaaux 90 pts Wine Spectator\n\n\n\nLa Roque- Bandol\, Rose\n\n\n\nSpanish Wine Tasting:\n\n\n\nFlavium -Bierzo\, Spain 90pts Parker
X-ALT-DESC;FMTTYPE=text/html:Friday: May 4th<br />\n<br />\n<br />\nFrench Wine Tasting: Bordeaxu &amp\; Rose<br />\n<br />\nRollan de By- Bordeaaux 90 pts Wine Spectator<br />\n<br />\nLa Roque- Bandol\, Rose<br />\n<br />\nSpanish Wine Tasting:<br />\n<br />\nFlavium -Bierzo\, Spain 90pts Parker<br />\n
LOCATION:STEFANO'S WINE & LIQUOR
UID:e.330.3697
SEQUENCE:3
DTSTAMP:20260421T001517Z
URL:https://business.keybiscaynechamber.org/events/details/event-at-stefano-s-wine-liquor-05-04-2012-3697
END:VEVENT

END:VCALENDAR
