BEGIN:VCALENDAR
VERSION:2.0
PRODID:-//ChamberMaster//Event Calendar 2.0//EN
METHOD:PUBLISH
X-PUBLISHED-TTL:P3D
REFRESH-INTERVAL:P3D
CALSCALE:GREGORIAN
BEGIN:VEVENT
DTSTART:20130503T210000Z
DTEND:20130504T000000Z
X-MICROSOFT-CDO-ALLDAYEVENT:FALSE
SUMMARY:Event at Stefano's Wine & Liquor
DESCRIPTION:Friday:  May 3rd\n\n \n\n \n\nSpanish Wine Tasting\n\nR+ \, Ribera del Duero\n\n \n\nBrazilian Cacacha Tasting:\n\nLeblon Cacacha
X-ALT-DESC;FMTTYPE=text/html:<span style="font-size: 16px"><u><span style="font-family: calibri">Friday:&nbsp\; May 3<sup>rd</sup></span></u><br />\n&nbsp\;<br />\n&nbsp\;<br />\n<span style="font-family: calibri">Spanish Wine Tasting</span><br />\n<span style="font-family: calibri">R+ \, Ribera del Duero</span><br />\n&nbsp\;<br />\n<span style="font-family: calibri">Brazilian Cacacha Tasting:</span><br />\n<span style="font-family: calibri">Leblon Cacacha</span></span><br />\n
LOCATION:STEFANO?S WINE & LIQUOR AT THE GALLERIA MALL
UID:e.330.3901
SEQUENCE:3
DTSTAMP:20260420T061815Z
URL:https://business.keybiscaynechamber.org/events/details/event-at-stefano-s-wine-liquor-05-03-2013-3901
END:VEVENT

END:VCALENDAR
