BEGIN:VCALENDAR
VERSION:2.0
PRODID:-//ChamberMaster//Event Calendar 2.0//EN
METHOD:PUBLISH
X-PUBLISHED-TTL:P3D
REFRESH-INTERVAL:P3D
CALSCALE:GREGORIAN
BEGIN:VEVENT
DTSTART:20130427T210000Z
DTEND:20130428T000000Z
X-MICROSOFT-CDO-ALLDAYEVENT:FALSE
SUMMARY:Event at Stefano's Wine & Liquor
DESCRIPTION:French Pinot Noir\n\n Le Jamelles\, Burgundy\n\n \n\nRum Tasting:\n\nBotran\, Solera & Reserva
X-ALT-DESC;FMTTYPE=text/html:<span style="font-size: 18px"><u><span style="font-family: calibri">French Pinot Noir</span></u><br />\n&nbsp\;<strong><span style="font-family: calibri">Le Jamelles\, Burgundy</span></strong><br />\n&nbsp\;<br />\n<u><span style="font-family: calibri">Rum Tasting:</span></u><br />\n<strong><span style="font-family: calibri">Botran\, Solera &amp\; Reserva</span></strong></span><br />\n
LOCATION:STEFANO?S WINE & LIQUOR AT THE GALLERIA MALL
UID:e.330.3899
SEQUENCE:3
DTSTAMP:20260420T091552Z
URL:https://business.keybiscaynechamber.org/events/details/event-at-stefano-s-wine-liquor-04-27-2013-3899
END:VEVENT

END:VCALENDAR
