BEGIN:VCALENDAR
VERSION:2.0
PRODID:-//ChamberMaster//Event Calendar 2.0//EN
METHOD:PUBLISH
X-PUBLISHED-TTL:P3D
REFRESH-INTERVAL:P3D
CALSCALE:GREGORIAN
BEGIN:VEVENT
DTSTART:20120427T210000Z
DTEND:20120428T000000Z
X-MICROSOFT-CDO-ALLDAYEVENT:FALSE
SUMMARY:Event at Stefano's Wine & Liquor
DESCRIPTION:Friday:\n\n	\n\n	\n\n	Sparkling Wine Tasting--- Argyle\, Oregon\n\n	\n\n	Vodka Tasting-- Voli Vodka- Lyte & Sugar free
X-ALT-DESC;FMTTYPE=text/html:<p>\n	<span style="font-size: 14px"><big>Friday:<br />\n	<br />\n	<br />\n	Sparkling Wine Tasting--- Argyle\, Oregon<br />\n	<br />\n	Vodka Tasting-- Voli Vodka- Lyte &amp\; Sugar free</big></span><br />\n	&nbsp\;</p>\n
LOCATION:Stefano's Wine & Liquor
UID:e.330.3695
SEQUENCE:3
DTSTAMP:20260421T020629Z
URL:https://business.keybiscaynechamber.org/events/details/event-at-stefano-s-wine-liquor-04-27-2012-3695
END:VEVENT

END:VCALENDAR
