BEGIN:VCALENDAR
VERSION:2.0
PRODID:-//ChamberMaster//Event Calendar 2.0//EN
METHOD:PUBLISH
X-PUBLISHED-TTL:P3D
REFRESH-INTERVAL:P3D
CALSCALE:GREGORIAN
BEGIN:VEVENT
DTSTART:20130426T210000Z
DTEND:20130427T000000Z
X-MICROSOFT-CDO-ALLDAYEVENT:FALSE
SUMMARY:Event at Stefano's Wine & Liquor
DESCRIPTION:French Rose Tasting:\n\nClos Clementine\, Provence\n\n \n\n\n\nSingle Malt Scotch Tasting:\n\nGlenrothes\, Reserve
X-ALT-DESC;FMTTYPE=text/html:<span style="font-size: 18px"><u><span style="font-family: calibri">French Rose Tasting:</span></u><br />\n<strong><span style="font-family: calibri">Clos Clementine\, Provence</span></strong><br />\n&nbsp\;<br />\n<br />\n<span style="font-family: calibri"><u>Single Malt Scotch Tasting:</u></span><br />\n<strong><span style="font-family: calibri">Glenrothes\, Reserve</span></strong></span><br />\n
LOCATION:STEFANO?S WINE & LIQUOR AT THE GALLERIA MALL
UID:e.330.3898
SEQUENCE:3
DTSTAMP:20260420T075553Z
URL:https://business.keybiscaynechamber.org/events/details/event-at-stefano-s-wine-liquor-04-26-2013-3898
END:VEVENT

END:VCALENDAR
