BEGIN:VCALENDAR
VERSION:2.0
PRODID:-//ChamberMaster//Event Calendar 2.0//EN
METHOD:PUBLISH
X-PUBLISHED-TTL:P3D
REFRESH-INTERVAL:P3D
CALSCALE:GREGORIAN
BEGIN:VEVENT
DTSTART:20120421T210000Z
DTEND:20120422T000000Z
X-MICROSOFT-CDO-ALLDAYEVENT:FALSE
SUMMARY:Event at Stefano's Wine & Liquor
DESCRIPTION:RUM TASTING\n\n\n\n\n\nRON ABULEO
X-ALT-DESC;FMTTYPE=text/html:RUM TASTING<br />\n<br />\n<br />\nRON ABULEO
LOCATION:Stefano's Wine & Liquor
UID:e.330.3691
SEQUENCE:3
DTSTAMP:20260421T031814Z
URL:https://business.keybiscaynechamber.org/events/details/event-at-stefano-s-wine-liquor-04-21-2012-3691
END:VEVENT

END:VCALENDAR
