BEGIN:VCALENDAR
VERSION:2.0
PRODID:-//ChamberMaster//Event Calendar 2.0//EN
METHOD:PUBLISH
X-PUBLISHED-TTL:P3D
REFRESH-INTERVAL:P3D
CALSCALE:GREGORIAN
BEGIN:VEVENT
DTSTART:20130420T210000Z
DTEND:20130421T000000Z
X-MICROSOFT-CDO-ALLDAYEVENT:FALSE
SUMMARY:Event at Stefano's Wine & Liquor
DESCRIPTION:FRENCH WINE TASTING:\n\n	\n\n	RHONE VALLEY RED:  DOMAINE BRUSSET
X-ALT-DESC;FMTTYPE=text/html:<h3>\n	FRENCH WINE TASTING:<br />\n	<br />\n	RHONE VALLEY RED:&nbsp\; DOMAINE BRUSSET</h3>\n
LOCATION:STEFANO?S WINE & LIQUOR AT THE GALLERIA MALL
UID:e.330.3894
SEQUENCE:3
DTSTAMP:20260420T075202Z
URL:https://business.keybiscaynechamber.org/events/details/event-at-stefano-s-wine-liquor-04-20-2013-3894
END:VEVENT

END:VCALENDAR
