BEGIN:VCALENDAR
VERSION:2.0
PRODID:-//ChamberMaster//Event Calendar 2.0//EN
METHOD:PUBLISH
X-PUBLISHED-TTL:P3D
REFRESH-INTERVAL:P3D
CALSCALE:GREGORIAN
BEGIN:VEVENT
DTSTART:20120420T210000Z
DTEND:20120421T000000Z
X-MICROSOFT-CDO-ALLDAYEVENT:FALSE
SUMMARY:Event at Stefano's Wine & Liquor
DESCRIPTION:Friday\, April 20th\, 2012\n\n\n\nSparkling Wine Tasting--- Argyle Sparkling wine from Oregon
X-ALT-DESC;FMTTYPE=text/html:<br />\n<span style="font-size: 16px">Friday\, April 20th\, 2012<br />\n<br />\nSparkling Wine Tasting--- Argyle Sparkling wine from Oregon</span><br />\n
LOCATION:Stefano's Wine & Liquor located at the Galleria Mall
UID:e.330.3690
SEQUENCE:3
DTSTAMP:20260421T015106Z
URL:https://business.keybiscaynechamber.org/events/details/event-at-stefano-s-wine-liquor-04-20-2012-3690
END:VEVENT

END:VCALENDAR
