BEGIN:VCALENDAR
VERSION:2.0
PRODID:-//ChamberMaster//Event Calendar 2.0//EN
METHOD:PUBLISH
X-PUBLISHED-TTL:P3D
REFRESH-INTERVAL:P3D
CALSCALE:GREGORIAN
BEGIN:VEVENT
DTSTART:20140419T210000Z
DTEND:20140420T000000Z
X-MICROSOFT-CDO-ALLDAYEVENT:FALSE
SUMMARY:Event at Stefano's Wine & Liquor
DESCRIPTION:ITALIAN PROSECCO & PINOT GRIGGIO TASTING\n\n\n\nCOLLI ORIENTALLI DE FRIULI\, PINOT GRIGGIO\n\n\n\nCLARA C\,  PROSECCO
X-ALT-DESC;FMTTYPE=text/html:<br />\n<br />\n<u><strong><span style="font-size: 16px\;">ITALIAN PROSECCO &amp\; PINOT GRIGGIO TASTING</span></strong></u><br />\n<br />\n<span style="font-size: 16px\;">COLLI ORIENTALLI DE FRIULI\, PINOT GRIGGIO<br />\n<br />\nCLARA C\,&nbsp\; PROSECCO </span>
LOCATION:STEFANO?S WINE & LIQUOR AT THE GALLERIA MALL
UID:e.330.4090
SEQUENCE:3
DTSTAMP:20260419T133719Z
URL:https://business.keybiscaynechamber.org/events/details/event-at-stefano-s-wine-liquor-04-19-2014-4090
END:VEVENT

END:VCALENDAR
