BEGIN:VCALENDAR
VERSION:2.0
PRODID:-//ChamberMaster//Event Calendar 2.0//EN
METHOD:PUBLISH
X-PUBLISHED-TTL:P3D
REFRESH-INTERVAL:P3D
CALSCALE:GREGORIAN
BEGIN:VEVENT
DTSTART:20120414T210000Z
DTEND:20120415T000000Z
X-MICROSOFT-CDO-ALLDAYEVENT:FALSE
SUMMARY:Event at Stefano's Wine & Liquor
DESCRIPTION:Saturday: April 13th\n\n\n\nFrench Sparkling Wine Tasting:\n\n\n\nNew Product: Veuve Du Vernay Rose
X-ALT-DESC;FMTTYPE=text/html:<br />\n<span style="font-size: 16px">Saturday: April 13th<br />\n<br />\nFrench Sparkling Wine Tasting:<br />\n<br />\nNew Product: Veuve Du Vernay Rose</span><br />\n
LOCATION:Stefano's Wine & Liquor at the Galleria Mall
UID:e.330.3686
SEQUENCE:3
DTSTAMP:20260421T015105Z
URL:https://business.keybiscaynechamber.org/events/details/event-at-stefano-s-wine-liquor-04-14-2012-3686
END:VEVENT

END:VCALENDAR
