BEGIN:VCALENDAR
VERSION:2.0
PRODID:-//ChamberMaster//Event Calendar 2.0//EN
METHOD:PUBLISH
X-PUBLISHED-TTL:P3D
REFRESH-INTERVAL:P3D
CALSCALE:GREGORIAN
BEGIN:VEVENT
DTSTART:20130413T210000Z
DTEND:20130414T000000Z
X-MICROSOFT-CDO-ALLDAYEVENT:FALSE
SUMMARY:Event at Stefano's Wine & Liquor
DESCRIPTION:Argentine Wine Tasting\n\n \n\nBodegas Iacarrini\, Bonarda\n\n \n\nRum Tasting\n\n \n\nKraken Rum\, Trinidad & Tobago
X-ALT-DESC;FMTTYPE=text/html:<span style="font-size: 16px"><u><strong><span style="color: #1f497d"><span style="font-family: calibri">Argentine Wine Tasting</span></span></strong></u><br />\n&nbsp\;<br />\n<span style="color: #1f497d"><span style="font-family: calibri">Bodegas Iacarrini\, Bonarda</span></span><br />\n&nbsp\;<br />\n<u><strong><span style="color: #1f497d"><span style="font-family: calibri">Rum Tasting</span></span></strong></u><br />\n&nbsp\;<br />\n<span style="color: #1f497d"><span style="font-family: calibri">Kraken Rum\, Trinidad &amp\; Tobago</span></span></span><br />\n
LOCATION:STEFANO?S WINE & LIQUOR AT THE GALLERIA MALL
UID:e.330.3889
SEQUENCE:3
DTSTAMP:20260420T075512Z
URL:https://business.keybiscaynechamber.org/events/details/event-at-stefano-s-wine-liquor-04-13-2013-3889
END:VEVENT

END:VCALENDAR
