BEGIN:VCALENDAR
VERSION:2.0
PRODID:-//ChamberMaster//Event Calendar 2.0//EN
METHOD:PUBLISH
X-PUBLISHED-TTL:P3D
REFRESH-INTERVAL:P3D
CALSCALE:GREGORIAN
BEGIN:VEVENT
DTSTART:20130412T210000Z
DTEND:20130413T000000Z
X-MICROSOFT-CDO-ALLDAYEVENT:FALSE
SUMMARY:Event at Stefano's Wine & Liquor
DESCRIPTION:Napa Valley Wines: Duckhorn Winery\n\n \n\nDuckhorn Merlot & Savignon Blanc\n\nDecoy Merlot\n\nParaduxx Red Blend\n\n\n\nGin Tasting\n\nG Vine Gin
X-ALT-DESC;FMTTYPE=text/html:<span style="font-size: 16px"><span style="font-family: times new roman"><strong><u><span style="color: #1f497d">Napa Valley Wines: Duckhorn Winery</span></u></strong><br />\n&nbsp\;<br />\n<span style="color: #1f497d">Duckhorn Merlot &amp\; Savignon Blanc</span><br />\n<span style="color: #1f497d">Decoy Merlot</span><br />\n<span style="color: #1f497d">Paraduxx Red Blend</span><br />\n<br />\n<span style="color: #1f497d"><span style="font-size: medium"><span style="font-family: calibri"><strong><u>Gin Tasting</u></strong></span></span></span><br />\n<span style="color: #1f497d"><span style="font-size: medium"><span style="font-family: calibri">G Vine Gin</span></span></span></span></span><br />\n<br />\n
LOCATION:STEFANO?S WINE & LIQUOR AT THE GALLERIA MALL
UID:e.330.3888
SEQUENCE:3
DTSTAMP:20260420T075659Z
URL:https://business.keybiscaynechamber.org/events/details/event-at-stefano-s-wine-liquor-04-12-2013-3888
END:VEVENT

END:VCALENDAR
