BEGIN:VCALENDAR
VERSION:2.0
PRODID:-//ChamberMaster//Event Calendar 2.0//EN
METHOD:PUBLISH
X-PUBLISHED-TTL:P3D
REFRESH-INTERVAL:P3D
CALSCALE:GREGORIAN
BEGIN:VEVENT
DTSTART:20140411T210000Z
DTEND:20140412T000000Z
X-MICROSOFT-CDO-ALLDAYEVENT:FALSE
SUMMARY:Event at Stefano's Wine & Liquor
DESCRIPTION:SPANISH WINE TASTING:  THE RIOJA REGION\n\n\n\nCUNE CRIANZA\n\n\n\nVINA REAL CRIANZA\n\n\n\nCONTINO
X-ALT-DESC;FMTTYPE=text/html:<br />\n<span style="font-size: 16px\;"><u><strong>SPANISH WINE TASTING:&nbsp\; THE RIOJA REGION</strong></u><br />\n<br />\nCUNE CRIANZA<br />\n<br />\nVINA REAL CRIANZA<br />\n<br />\nCONTINO</span>
LOCATION:STEFANO?S WINE & LIQUOR AT THE GALLERIA MALL
UID:e.330.4087
SEQUENCE:3
DTSTAMP:20260419T133801Z
URL:https://business.keybiscaynechamber.org/events/details/event-at-stefano-s-wine-liquor-04-11-2014-4087
END:VEVENT

END:VCALENDAR
