BEGIN:VCALENDAR
VERSION:2.0
PRODID:-//ChamberMaster//Event Calendar 2.0//EN
METHOD:PUBLISH
X-PUBLISHED-TTL:P3D
REFRESH-INTERVAL:P3D
CALSCALE:GREGORIAN
BEGIN:VEVENT
DTSTART:20120407T210000Z
DTEND:20120408T000000Z
X-MICROSOFT-CDO-ALLDAYEVENT:FALSE
SUMMARY:Event at Stefano's Wine & Liquor
DESCRIPTION:Saturday: April 7th\n\n\n\nWines from the Loire Valley- Chateau de Las Chesnaie Muscadet\n\n\n\nArgentian Wine Tasting- Las Nencias Malbec\n\n\n\nSpanish Wine Tasting-- Ostatu Rose- Rioja\n\n\n\n\n\nRum Tasting- Ron Atlantico- bartender on premise to serve mixed drinks!\n\n\n\nAll tasting from 5pm to 8pm
X-ALT-DESC;FMTTYPE=text/html:<br />\n<span style="font-size: 14px">Saturday: April 7th<br />\n<br />\nWines from the Loire Valley- Chateau de Las Chesnaie Muscadet<br />\n<br />\nArgentian Wine Tasting- Las Nencias Malbec<br />\n<br />\nSpanish Wine Tasting-- Ostatu Rose- Rioja<br />\n<br />\n<br />\nRum Tasting- Ron Atlantico- bartender on premise to serve mixed drinks!<br />\n<br />\nAll tasting from 5pm to 8pm</span><br />\n
LOCATION:Stefanos Wine & Liquor at the Galleria Mall
UID:e.330.3680
SEQUENCE:3
DTSTAMP:20260421T015107Z
URL:https://business.keybiscaynechamber.org/events/details/event-at-stefano-s-wine-liquor-04-07-2012-3680
END:VEVENT

END:VCALENDAR
