BEGIN:VCALENDAR
VERSION:2.0
PRODID:-//ChamberMaster//Event Calendar 2.0//EN
METHOD:PUBLISH
X-PUBLISHED-TTL:P3D
REFRESH-INTERVAL:P3D
CALSCALE:GREGORIAN
BEGIN:VEVENT
DTSTART:20120406T210000Z
DTEND:20120407T000000Z
X-MICROSOFT-CDO-ALLDAYEVENT:FALSE
SUMMARY:Event at Stefano's Wine & Liquor
DESCRIPTION:Friday: April 6th\n\n\n\nChampagne Tasting: Lanson Champagne- Brut & Rose
X-ALT-DESC;FMTTYPE=text/html:<br />\n<span style="font-size: 16px">Friday: April 6th<br />\n<br />\nChampagne Tasting: Lanson Champagne- Brut &amp\; Rose</span><br />\n
LOCATION:Stefano's Wine & Liquor at the Galleria Mall
UID:e.330.3679
SEQUENCE:3
DTSTAMP:20260421T015019Z
URL:https://business.keybiscaynechamber.org/events/details/event-at-stefano-s-wine-liquor-04-06-2012-3679
END:VEVENT

END:VCALENDAR
