BEGIN:VCALENDAR
VERSION:2.0
PRODID:-//ChamberMaster//Event Calendar 2.0//EN
METHOD:PUBLISH
X-PUBLISHED-TTL:P3D
REFRESH-INTERVAL:P3D
CALSCALE:GREGORIAN
BEGIN:VEVENT
DTSTART:20120331T210000Z
DTEND:20120401T000000Z
X-MICROSOFT-CDO-ALLDAYEVENT:FALSE
SUMMARY:Event at Stefano's Wine & Liquor
DESCRIPTION:Champagne Tasting: Duval Leroy Champagne\n\n\n\nItalian Wine Tasting: Mirafiore Barolo\n\n\n\nMargarita Tasting: New Product: Blue Head Margarita -- ready to go Margarita!
X-ALT-DESC;FMTTYPE=text/html:<span style="font-size: 14px"><span style="font-family: arial">Champagne Tasting: Duval Leroy Champagne<br />\n<br />\nItalian Wine Tasting: Mirafiore Barolo<br />\n<br />\nMargarita Tasting: New Product: Blue Head Margarita -- ready to go Margarita!</span></span><br />\n
LOCATION:Stefano's Wine & Liquor
UID:e.330.3668
SEQUENCE:3
DTSTAMP:20260421T043644Z
URL:https://business.keybiscaynechamber.org/events/details/event-at-stefano-s-wine-liquor-03-31-2012-3668
END:VEVENT

END:VCALENDAR
