BEGIN:VCALENDAR
VERSION:2.0
PRODID:-//ChamberMaster//Event Calendar 2.0//EN
METHOD:PUBLISH
X-PUBLISHED-TTL:P3D
REFRESH-INTERVAL:P3D
CALSCALE:GREGORIAN
BEGIN:VEVENT
DTSTART:20120330T210000Z
DTEND:20120331T000000Z
X-MICROSOFT-CDO-ALLDAYEVENT:FALSE
SUMMARY:Event at Stefano's Wine & Liquor
DESCRIPTION:California WineTasting:\n\n\n\nFoxglove Cabernet Savignon\n\nFoxglove Zinfandel\n\nTudal Savignon Blanc\n\n\n\nRum Tasting:\n\n\n\nRon Botran
X-ALT-DESC;FMTTYPE=text/html:<br />\n<span style="font-size: 14px"><span style="font-family: arial"><big>California WineTasting:<br />\n<br />\nFoxglove Cabernet Savignon<br />\nFoxglove Zinfandel<br />\nTudal Savignon Blanc<br />\n<br />\nRum Tasting:<br />\n<br />\nRon Botran</big></span></span><br />\n
LOCATION:Stefano's Wine & Liquor
UID:e.330.3667
SEQUENCE:3
DTSTAMP:20260421T032148Z
URL:https://business.keybiscaynechamber.org/events/details/event-at-stefano-s-wine-liquor-03-30-2012-3667
END:VEVENT

END:VCALENDAR
