BEGIN:VCALENDAR
VERSION:2.0
PRODID:-//ChamberMaster//Event Calendar 2.0//EN
METHOD:PUBLISH
X-PUBLISHED-TTL:P3D
REFRESH-INTERVAL:P3D
CALSCALE:GREGORIAN
BEGIN:VEVENT
DTSTART:20140329T210000Z
DTEND:20140330T000000Z
X-MICROSOFT-CDO-ALLDAYEVENT:FALSE
SUMMARY:Event at Stefano's Wine & Liquor
DESCRIPTION:SPANISH CAVA TASTING\n\n\n\nAGUSTIN TORELO CAVA\, PENEDES\, SPAIN
X-ALT-DESC;FMTTYPE=text/html:<br />\n<span style="font-size: 16px\;"><u><strong>SPANISH CAVA TASTING</strong></u></span><br />\n<br />\nAGUSTIN TORELO CAVA\, PENEDES\, SPAIN
LOCATION:STEFANO'S WINE & LIQUOR AT THE GALLERIA MALL
UID:e.330.4072
SEQUENCE:3
DTSTAMP:20260419T150331Z
URL:https://business.keybiscaynechamber.org/events/details/event-at-stefano-s-wine-liquor-03-29-2014-4072
END:VEVENT

END:VCALENDAR
