BEGIN:VCALENDAR
VERSION:2.0
PRODID:-//ChamberMaster//Event Calendar 2.0//EN
METHOD:PUBLISH
X-PUBLISHED-TTL:P3D
REFRESH-INTERVAL:P3D
CALSCALE:GREGORIAN
BEGIN:VEVENT
DTSTART:20140321T210000Z
DTEND:20140322T000000Z
X-MICROSOFT-CDO-ALLDAYEVENT:FALSE
SUMMARY:Event at Stefano's Wine & Liquor
DESCRIPTION:FRENCH WINES & BRAZILIAN CACACHA TASTING\n\n\n\nCHATEAU DE MARSAN\,  BORDEAUX.\, 90 PTS WINE SPECTATOR\n\n\n\nDOMAINE BILA-HAUT\, RHONE VALLEY\, 96 PTS ROBERT PARKER
X-ALT-DESC;FMTTYPE=text/html:<br />\n<span style="font-size: 16px\;"><u><strong>FRENCH WINES &amp\; BRAZILIAN CACACHA TASTING</strong></u></span><br />\n<br />\nCHATEAU DE MARSAN\,&nbsp\; BORDEAUX.\, 90 PTS WINE SPECTATOR<br />\n<br />\nDOMAINE BILA-HAUT\, RHONE VALLEY\, 96 PTS ROBERT PARKER
LOCATION:STEFANO?S WINE & LIQUOR AT THE GALLERIA MALL
UID:e.330.4066
SEQUENCE:3
DTSTAMP:20260419T150356Z
URL:https://business.keybiscaynechamber.org/events/details/event-at-stefano-s-wine-liquor-03-21-2014-4066
END:VEVENT

END:VCALENDAR
