BEGIN:VCALENDAR
VERSION:2.0
PRODID:-//ChamberMaster//Event Calendar 2.0//EN
METHOD:PUBLISH
X-PUBLISHED-TTL:P3D
REFRESH-INTERVAL:P3D
CALSCALE:GREGORIAN
BEGIN:VEVENT
DTSTART:20140308T220000Z
DTEND:20140309T010000Z
X-MICROSOFT-CDO-ALLDAYEVENT:FALSE
SUMMARY:Event at Stefano's Wine & Liquor
DESCRIPTION:CHILEAN & FRENCH WINE TASTING\n\n\n\nLAURENT B\,  RHONE VALLEY\, FRANCE (RED)\n\n\n\nAPALTAGUA CARMENERE RESERVE\, CHILE\n\n\n\nRUM TASTING\n\n\n\nRON BOTRAN\, GUATEMALA
X-ALT-DESC;FMTTYPE=text/html:<br />\n<span style="font-size: 16px\;"><u><strong>CHILEAN &amp\; FRENCH WINE TASTING</strong></u><br />\n<br />\nLAURENT B\,&nbsp\; RHONE VALLEY\, FRANCE (RED)<br />\n<br />\nAPALTAGUA CARMENERE RESERVE\, CHILE<br />\n<br />\n<u><strong>RUM TASTING</strong></u><br />\n<br />\nRON BOTRAN\, GUATEMALA</span>
LOCATION:STEFANO?S WINE & LIQUOR AT THE GALLERIA MALL
UID:e.330.4062
SEQUENCE:3
DTSTAMP:20260419T162203Z
URL:https://business.keybiscaynechamber.org/events/details/event-at-stefano-s-wine-liquor-03-08-2014-4062
END:VEVENT

END:VCALENDAR
