BEGIN:VCALENDAR
VERSION:2.0
PRODID:-//ChamberMaster//Event Calendar 2.0//EN
METHOD:PUBLISH
X-PUBLISHED-TTL:P3D
REFRESH-INTERVAL:P3D
CALSCALE:GREGORIAN
BEGIN:VEVENT
DTSTART:20140228T220000Z
DTEND:20140301T010000Z
X-MICROSOFT-CDO-ALLDAYEVENT:FALSE
SUMMARY:Event at Stefano's Wine & Liquor
DESCRIPTION:FREINCH WINES & RUM TASTING\n\n\n\nDOMAINE BARVILLE\, CHATEAUNEUF  DU PAPE\, RHONE FRANCE\n\n\n\nCHATEAU DE LAS CHESNAIE\,  MUSCADET\, LOIRE VALLEY\n\n\n\nRUM\n\n\n\nRON BOTRAN\, GUATEMALA
X-ALT-DESC;FMTTYPE=text/html:<br />\n<span style="font-size: 16px"><u><strong>FREINCH WINES &amp\; RUM TASTING</strong></u></span><br />\n<br />\nDOMAINE BARVILLE\, CHATEAUNEUF&nbsp\; DU PAPE\, RHONE FRANCE<br />\n<br />\nCHATEAU DE LAS CHESNAIE\,&nbsp\; MUSCADET\, LOIRE VALLEY<br />\n<br />\n<span style="font-size: 16px"><u><strong>RUM</strong></u></span><br />\n<br />\nRON BOTRAN\, GUATEMALA
LOCATION:STEFANO?S WINE & LIQUOR AT THE GALLERIA MALL
UID:e.330.4059
SEQUENCE:3
DTSTAMP:20260419T180120Z
URL:https://business.keybiscaynechamber.org/events/details/event-at-stefano-s-wine-liquor-02-28-2014-4059
END:VEVENT

END:VCALENDAR
