BEGIN:VCALENDAR
VERSION:2.0
PRODID:-//ChamberMaster//Event Calendar 2.0//EN
METHOD:PUBLISH
X-PUBLISHED-TTL:P3D
REFRESH-INTERVAL:P3D
CALSCALE:GREGORIAN
BEGIN:VEVENT
DTSTART:20120225T180000Z
DTEND:20120225T190000Z
X-MICROSOFT-CDO-ALLDAYEVENT:FALSE
SUMMARY:Event at Stefano's Wine & Liquor
DESCRIPTION:ANTONIO BANDERAS TO  VISIT STEFANO'S WINE & LIQUOR TO PROMOTE HIS WINERY\n\n	\n\n	MEET & GREET ANTONIO BANDERAS AND SAMPLE HIS RIBERA DEL DUERO WINES ANTA BANDERAS JOVEN\, CRIANZA & RESERVA!
X-ALT-DESC;FMTTYPE=text/html:<h3 style="color: blue">\n	ANTONIO BANDERAS TO&nbsp\; VISIT STEFANO&#39\;S WINE &amp\; LIQUOR TO PROMOTE HIS WINERY</h3>\n<p>\n	<br />\n	<strong><span style="font-size: 14px">MEET &amp\; GREET ANTONIO BANDERAS AND SAMPLE HIS RIBERA DEL DUERO WINES ANTA BANDERAS JOVEN\, CRIANZA &amp\; RESERVA!<br />\n	<span _fck_bookmark="1" style="display: none">&nbsp\;</span><span _fck_bookmark="1" style="display: none">&nbsp\;</span></span></strong><br />\n	<br />\n	&nbsp\;</p>
LOCATION:STEFANO'S WINE & LIQUOR AT THE GALLERIA MALL
UID:e.330.3591
SEQUENCE:3
DTSTAMP:20260421T061221Z
URL:https://business.keybiscaynechamber.org/events/details/event-at-stefano-s-wine-liquor-02-25-2012-3591
END:VEVENT

END:VCALENDAR
