BEGIN:VCALENDAR
VERSION:2.0
PRODID:-//ChamberMaster//Event Calendar 2.0//EN
METHOD:PUBLISH
X-PUBLISHED-TTL:P3D
REFRESH-INTERVAL:P3D
CALSCALE:GREGORIAN
BEGIN:VEVENT
DTSTART:20140222T220000Z
DTEND:20140223T010000Z
X-MICROSOFT-CDO-ALLDAYEVENT:FALSE
SUMMARY:Event at Stefano's Wine & Liquor
DESCRIPTION:CACACHA TASTING\n\n\n\nLEBLON CACACHA\, BRAZIL\n\n\n\nENJOY FRESHLY MADE  CAIPIRINHAS!
X-ALT-DESC;FMTTYPE=text/html:<br />\n<u><strong><span style="font-size: 16px">CACACHA TASTING</span></strong></u><br />\n<br />\n<span style="font-size: 16px">LEBLON CACACHA\, BRAZIL<br />\n<br />\nENJOY FRESHLY MADE &nbsp\;CAIPIRINHAS!</span>
LOCATION:STEFANO?S WINE & LIQUOR AT THE GALLERIA MALL
UID:e.330.4055
SEQUENCE:3
DTSTAMP:20260419T163350Z
URL:https://business.keybiscaynechamber.org/events/details/event-at-stefano-s-wine-liquor-02-22-2014-4055
END:VEVENT

END:VCALENDAR
