BEGIN:VCALENDAR
VERSION:2.0
PRODID:-//ChamberMaster//Event Calendar 2.0//EN
METHOD:PUBLISH
X-PUBLISHED-TTL:P3D
REFRESH-INTERVAL:P3D
CALSCALE:GREGORIAN
BEGIN:VEVENT
DTSTART:20140221T220000Z
DTEND:20140222T010000Z
X-MICROSOFT-CDO-ALLDAYEVENT:FALSE
SUMMARY:Event at Stefano's Wine & Liquor
DESCRIPTION:FRENCH & ARGENTINIAN WINE TASTING\n\n\n\nJEAN BOUCHARD CHABLIS\,  BURGUNDY\, FRANCE\n\n\n\nJEAN BOUCAHRD POUILLY FUISEE\, BURGUNDY FRANCE\n\n\n\n\n\nHENRY LAGARDE MALBEC\,  MENDOZA\, ARGENTINA
X-ALT-DESC;FMTTYPE=text/html:<br />\n<u><strong><span style="font-size: 16px">FRENCH &amp\; ARGENTINIAN WINE TASTING</span></strong></u><br />\n<br />\n<span style="font-size: 14px">JEAN BOUCHARD CHABLIS\,&nbsp\; BURGUNDY\, FRANCE<br />\n<br />\nJEAN BOUCAHRD POUILLY FUISEE\, BURGUNDY FRANCE<br />\n<br />\n<br />\nHENRY LAGARDE MALBEC\,&nbsp\; MENDOZA\, ARGENTINA</span><br />\n<br />\n<br />\n<br />\n
LOCATION:STEFANO?S WINE & LIQUOR AT THE GALLERIA MALL
UID:e.330.4054
SEQUENCE:3
DTSTAMP:20260419T175951Z
URL:https://business.keybiscaynechamber.org/events/details/event-at-stefano-s-wine-liquor-02-21-2014-4054
END:VEVENT

END:VCALENDAR
