BEGIN:VCALENDAR
VERSION:2.0
PRODID:-//ChamberMaster//Event Calendar 2.0//EN
METHOD:PUBLISH
X-PUBLISHED-TTL:P3D
REFRESH-INTERVAL:P3D
CALSCALE:GREGORIAN
BEGIN:VEVENT
DTSTART:20120211T220000Z
DTEND:20120212T010000Z
X-MICROSOFT-CDO-ALLDAYEVENT:FALSE
SUMMARY:Event at Stefano's Wine & Liquor
DESCRIPTION:French\, California & Argentinian Wine Tasting!\n\n	\n\n	Loire Valley Muscadet\n\n	Mendoza Malbec\n\n	Napa Cabernet Savignon
X-ALT-DESC;FMTTYPE=text/html:<h2>\n	French\, California &amp\; Argentinian Wine Tasting!</h2>\n<p>\n	<br />\n	<span style="font-size: 18px"><span style="font-family: arial">Loire Valley Muscadet<br />\n	Mendoza Malbec<br />\n	Napa Cabernet Savignon</span></span></p>\n
LOCATION:Stefanos Wine & Liquor
UID:e.330.3586
SEQUENCE:3
DTSTAMP:20260421T061122Z
URL:https://business.keybiscaynechamber.org/events/details/event-at-stefano-s-wine-liquor-02-11-2012-3586
END:VEVENT

END:VCALENDAR
