BEGIN:VCALENDAR
VERSION:2.0
PRODID:-//ChamberMaster//Event Calendar 2.0//EN
METHOD:PUBLISH
X-PUBLISHED-TTL:P3D
REFRESH-INTERVAL:P3D
CALSCALE:GREGORIAN
BEGIN:VEVENT
DTSTART:20120210T220000Z
DTEND:20120211T010000Z
X-MICROSOFT-CDO-ALLDAYEVENT:FALSE
SUMMARY:Event at Stefano's Wine & Liquor
DESCRIPTION:Champagne Tasting:\n\n\nLanson Champagne Gran Cru\n\n\n\nBrut & Rose
X-ALT-DESC;FMTTYPE=text/html:<h3 style="color: blue">\n	Champagne Tasting:</h3>\n<br />\n<big>Lanson Champagne Gran Cru<br />\n<br />\nBrut &amp\; Rose</big>
LOCATION:Stefano's Wine & Liquor at the Galleria Mall
UID:e.330.3585
SEQUENCE:3
DTSTAMP:20260421T061046Z
URL:https://business.keybiscaynechamber.org/events/details/event-at-stefano-s-wine-liquor-02-10-2012-3585
END:VEVENT

END:VCALENDAR
