BEGIN:VCALENDAR
VERSION:2.0
PRODID:-//ChamberMaster//Event Calendar 2.0//EN
METHOD:PUBLISH
X-PUBLISHED-TTL:P3D
REFRESH-INTERVAL:P3D
CALSCALE:GREGORIAN
BEGIN:VEVENT
DTSTART:20140208T220000Z
DTEND:20140209T010000Z
X-MICROSOFT-CDO-ALLDAYEVENT:FALSE
SUMMARY:Event at Stefano's Wine & Liquor
DESCRIPTION:ARGENTINIAN WINE TASTING\n\n\n\nCHAKANA MALBEC\, MENDOZA\,\n\n\n\n93 PTS ROBERT PARKER
X-ALT-DESC;FMTTYPE=text/html:<u><span style="font-size:16px\;"><strong>ARGENTINIAN WINE TASTING</strong></span></u><br />\n<br />\nCHAKANA MALBEC\, MENDOZA\,<br />\n<br />\n93 PTS ROBERT PARKER
LOCATION:STEFANO?S WINE & LIQUOR AT THE GALLERIA MALL
UID:e.330.4049
SEQUENCE:3
DTSTAMP:20260419T175951Z
URL:https://business.keybiscaynechamber.org/events/details/event-at-stefano-s-wine-liquor-02-08-2014-4049
END:VEVENT

END:VCALENDAR
